BEGIN:VCALENDAR
VERSION:2.0
PRODID:Events Booking
BEGIN:VEVENT
UID:69e88356c76f4
SUMMARY:Colorado CHP Initial (Unscheduled)
DESCRIPTION:Colorado Concealed Handgun Permit (CHP) Initial&nbsp\;is a 8-ho
 ur minimum class which meets the statutory requirements established in C.R
 .S. § 18-12-202.5 and as revised by HB24-1174 to qualify for a concealed 
 handgun permit (CHP) application in Colorado. &nbsp\;Instruction takes pla
 ce in a traditional classroom and range environment with an in-person inst
 ructor and requires passing of both a live fire shooting qualification and
  a written test.NOTE: &nbsp\;This is an unscheduled class option for which
  a date and time will be set by mutual agreement. &nbsp\;Weekdays are easi
 est to accommodate on short notice whereas weekend availability is limited
 .
LOCATION:4809 West CR 72\, Laporte CO 80535
DTSTART:20260101T070000Z
DTEND:20261231T070000Z
DTSTAMP:20260108T042157Z
ORGANIZER;CN=Awareness Analytics:MAILTO:training@awarenessanalytics.com
GEO:40.766685;-105.155156
X-APPLE-STRUCTURED-LOCATION;VALUE=URI;X-ADDRESS=4809 West CR 72\, Laporte C
 O 80535;X-APPLE-RADIUS=72;X-TITLE=Northern Colorado Rod & Gun Club:40.7666
 85;-105.155156
END:VEVENT
END:VCALENDAR