BEGIN:VCALENDAR
VERSION:2.0
PRODID:Events Booking
BEGIN:VEVENT
UID:69e5e80fb3b8a
SUMMARY:Colorado CHP Refresher (Unscheduled)
DESCRIPTION:Colorado Concealed Handgun Permit (CHP) Refresher&nbsp\;is a 2-
 hour minimum class which meets the statutory requirements established in C
 .R.S. § 18-12-202.5 and as revised by HB24-1174 to qualify for a conceale
 d handgun permit (CHP) renewal in Colorado. &nbsp\;Instruction takes place
  in a traditional classroom and range environment with an in-person instru
 ctor and requires passing of both a live fire shooting qualification and a
  written test.NOTE: &nbsp\;This is an unscheduled class option for which a
  date and time will be set by mutual agreement. &nbsp\;Weekdays are easies
 t to accommodate on short notice whereas weekend availability is limited.
LOCATION:4809 West CR 72\, Laporte CO 80535
DTSTART:20260101T070000Z
DTEND:20261231T070000Z
DTSTAMP:20260102T034935Z
ORGANIZER;CN=Awareness Analytics:MAILTO:training@awarenessanalytics.com
GEO:40.766685;-105.155156
X-APPLE-STRUCTURED-LOCATION;VALUE=URI;X-ADDRESS=4809 West CR 72\, Laporte C
 O 80535;X-APPLE-RADIUS=72;X-TITLE=Northern Colorado Rod & Gun Club:40.7666
 85;-105.155156
END:VEVENT
END:VCALENDAR